BEGIN:VCALENDAR
VERSION:2.0
PRODID:-//ChamberMaster//Event Calendar 2.0//EN
METHOD:PUBLISH
X-PUBLISHED-TTL:P3D
REFRESH-INTERVAL:P3D
CALSCALE:GREGORIAN
BEGIN:VEVENT
DTSTART:20120505T220000Z
DTEND:20120506T020000Z
X-MICROSOFT-CDO-ALLDAYEVENT:FALSE
SUMMARY:Happy Days for HELP - Dancing across the Decades
DESCRIPTION:HELP of Beaufort\, a nonprofit providing meals\, food\, clothing and financial assistance for emergency assistance for Beaufort County residents is holding a fundraiser at The Arsenal. DJ Steve Curless will spin music from across the decades as those who attend work their way through a silent and live auction. Food\, beer\, wine and other beverages are included in the cost of admission. Tickets are $40 a person and $75 a couple. Tickets cam be purchased at the door\, Bay St. Jewelers\, Blacksstocks and online at helpofbeaufort.org. So dress the part and come to the Beaufort Arsenal on May 5\, 6-10 p.m.
X-ALT-DESC;FMTTYPE=text/html:HELP of Beaufort\, a nonprofit providing meals\, food\, clothing and financial assistance for emergency assistance for Beaufort County residents is holding a fundraiser at The Arsenal. DJ Steve Curless will spin music from across the decades as those who attend work their way through a silent and live auction. Food\, beer\, wine and other beverages are included in the cost of admission. Tickets are $40 a person and $75 a couple. Tickets cam be purchased at the door\, Bay St. Jewelers\, Blacksstocks and online at helpofbeaufort.org. So dress the part and come to the Beaufort Arsenal on May 5\, 6-10 p.m.
LOCATION:Beaufort Arsenal\, 713 Craven St.\, Beaufort\, SC
UID:e.1212.4522
SEQUENCE:3
DTSTAMP:20260422T221918Z
URL:http://business.beaufortchamber.org/events/details/happy-days-for-help-dancing-across-the-decades-05-05-2012-4522
END:VEVENT

END:VCALENDAR
