BEGIN:VCALENDAR
VERSION:2.0
PRODID:-//ChamberMaster//Event Calendar 2.0//EN
METHOD:PUBLISH
X-PUBLISHED-TTL:P3D
REFRESH-INTERVAL:P3D
CALSCALE:GREGORIAN
BEGIN:VEVENT
DTSTART;VALUE=DATE:20090918
DTEND;VALUE=DATE:20090919
TRANSP:TRANSPARENT
X-MICROSOFT-CDO-ALLDAYEVENT:TRUE
SUMMARY:Hardeeville Annual Catfish Festival
DESCRIPTION:Activities include fireworks\, parade\, fishing/golf tournament\, music\, amusement park rides\, art/craft vendors\, plenty of food and fun !   Fri 4-10 and Sat 10 -10.  Beauty Pageant to be held in conjunction the weekend before - contact them for more information.  Watch for more details.
X-ALT-DESC;FMTTYPE=text/html:Activities include fireworks\, parade\, fishing/golf tournament\, music\, amusement park rides\, art/craft vendors\, plenty of food and fun !   Fri 4-10 and Sat 10 -10.  Beauty Pageant to be held in conjunction the weekend before - contact them for more information.  Watch for more details.
LOCATION:
UID:e.1212.3405
SEQUENCE:3
DTSTAMP:20260425T011011Z
URL:http://business.beaufortchamber.org/events/details/hardeeville-annual-catfish-festival-09-18-2009-3405
END:VEVENT

END:VCALENDAR
