BEGIN:VCALENDAR
VERSION:2.0
PRODID:-//ChamberMaster//Event Calendar 2.0//EN
METHOD:PUBLISH
X-PUBLISHED-TTL:P3D
REFRESH-INTERVAL:P3D
CALSCALE:GREGORIAN
BEGIN:VEVENT
DTSTART;VALUE=DATE:20090131
DTEND;VALUE=DATE:20090201
TRANSP:TRANSPARENT
X-MICROSOFT-CDO-ALLDAYEVENT:TRUE
SUMMARY:Harlem Renaissance Gala 2009 - 'The Rent Party'
DESCRIPTION:Enjoy an evening of dining\, dancing\, art exhibit\, silent auction and other exciting and artful diversions.     Tickets are $60  or $480 for a table of 8.
X-ALT-DESC;FMTTYPE=text/html:Enjoy an evening of dining\, dancing\, art exhibit\, silent auction and other exciting and artful diversions.     Tickets are $60  or $480 for a table of 8.
LOCATION:
UID:e.1212.2850
SEQUENCE:3
DTSTAMP:20260425T125101Z
URL:http://business.beaufortchamber.org/events/details/harlem-renaissance-gala-2009-the-rent-party-01-31-2009-2850
END:VEVENT

END:VCALENDAR
