BEGIN:VCALENDAR
VERSION:2.0
PRODID:-//ChamberMaster//Event Calendar 2.0//EN
METHOD:PUBLISH
X-PUBLISHED-TTL:P3D
REFRESH-INTERVAL:P3D
CALSCALE:GREGORIAN
BEGIN:VEVENT
DTSTART;VALUE=DATE:20091017
DTEND;VALUE=DATE:20091018
TRANSP:TRANSPARENT
X-MICROSOFT-CDO-ALLDAYEVENT:TRUE
SUMMARY:Higher Ground - Paddlefest
DESCRIPTION:This great annual water event is being held in conjunction with the Hunting Island 150th Lighthouse Celebration being held at Hunting Island State Park.  We are looking for kayaker's of any level to come out and race for fun.  There will also be a Kayak Demo during this weekend's activities.   Watch for more details !
X-ALT-DESC;FMTTYPE=text/html:This great annual water event is being held in conjunction with the Hunting Island 150th Lighthouse Celebration being held at Hunting Island State Park.  We are looking for kayaker's of any level to come out and race for fun.  There will also be a Kayak Demo during this weekend's activities.   Watch for more details !
LOCATION:
UID:e.1212.3408
SEQUENCE:3
DTSTAMP:20260424T221555Z
URL:http://business.beaufortchamber.org/events/details/higher-ground-paddlefest-10-17-2009-3408
END:VEVENT

END:VCALENDAR
