BEGIN:VCALENDAR
VERSION:2.0
PRODID:-//ChamberMaster//Event Calendar 2.0//EN
METHOD:PUBLISH
X-PUBLISHED-TTL:P3D
REFRESH-INTERVAL:P3D
CALSCALE:GREGORIAN
BEGIN:VEVENT
DTSTART;VALUE=DATE:20100212
DTEND;VALUE=DATE:20100213
TRANSP:TRANSPARENT
X-MICROSOFT-CDO-ALLDAYEVENT:TRUE
SUMMARY:Highway 21 Drive In Movie Theatre
DESCRIPTION:Screen # 1:  7:00pm  Valentine's Day  and  9:15pm Leap Year\nScreen # 2:  7:00pm  Edge of Darkness  and  9:00pm Eli\nYour concession sales help keep us open and allows us to get the most current films for your viewing enjoyment. So come out for a full evening of family fun.  \nCost: Adults $6.  Seniors over 60 and Military $5.  Child (5-12) $2.  4 and under - Free.\n\nNote:  Monday night February 15th is "Military Appreciation Night" \nCost:  All active military get in free w/ID
X-ALT-DESC;FMTTYPE=text/html:Screen # 1:  7:00pm  Valentine's Day  and  9:15pm Leap Year\nScreen # 2:  7:00pm  Edge of Darkness  and  9:00pm Eli\nYour concession sales help keep us open and allows us to get the most current films for your viewing enjoyment. So come out for a full evening of family fun.  \nCost: Adults $6.  Seniors over 60 and Military $5.  Child (5-12) $2.  4 and under - Free.\n\nNote:  Monday night February 15th is "Military Appreciation Night" \nCost:  All active military get in free w/ID
LOCATION:
UID:e.1212.3774
SEQUENCE:3
DTSTAMP:20260424T173102Z
URL:http://business.beaufortchamber.org/events/details/highway-21-drive-in-movie-theatre-02-12-2010-3774
END:VEVENT

END:VCALENDAR
