BEGIN:VCALENDAR
VERSION:2.0
PRODID:-//ChamberMaster//Event Calendar 2.0//EN
METHOD:PUBLISH
X-PUBLISHED-TTL:P3D
REFRESH-INTERVAL:P3D
CALSCALE:GREGORIAN
BEGIN:VEVENT
DTSTART;VALUE=DATE:20090724
DTEND;VALUE=DATE:20090725
TRANSP:TRANSPARENT
X-MICROSOFT-CDO-ALLDAYEVENT:TRUE
SUMMARY:Highway 21 Drive In Movies
DESCRIPTION:Bring the family out for an evening of  fun at one of the few remaining drive-in's !  There are two screens with 2 movies per viewing.   Screen 1:  @ 8:45  G-Force.  Screen 1:  @ 10:15 The Proposal.   Screen 2:  @ 8:45 Harry Potter & The Half Blood Prince.   Screen 2:  @ 11:30  Seventeen Again.  Our concession sales helps keep us open and allows us to get the most current movies for your entertainment.   Military $5    Seniors $5 (over 65)    Adults $6 (13 & Older)    Child (5-12) $2    Children 4 and under are free.
X-ALT-DESC;FMTTYPE=text/html:Bring the family out for an evening of  fun at one of the few remaining drive-in's !  There are two screens with 2 movies per viewing.   Screen 1:  @ 8:45  G-Force.  Screen 1:  @ 10:15 The Proposal.   Screen 2:  @ 8:45 Harry Potter & The Half Blood Prince.   Screen 2:  @ 11:30  Seventeen Again.  Our concession sales helps keep us open and allows us to get the most current movies for your entertainment.   Military $5    Seniors $5 (over 65)    Adults $6 (13 & Older)    Child (5-12) $2    Children 4 and under are free.
LOCATION:
UID:e.1212.3406
SEQUENCE:3
DTSTAMP:20260425T025244Z
URL:http://business.beaufortchamber.org/events/details/highway-21-drive-in-movies-07-24-2009-3406
END:VEVENT

END:VCALENDAR
