BEGIN:VCALENDAR
VERSION:2.0
PRODID:-//ChamberMaster//Event Calendar 2.0//EN
METHOD:PUBLISH
X-PUBLISHED-TTL:P3D
REFRESH-INTERVAL:P3D
CALSCALE:GREGORIAN
BEGIN:VEVENT
DTSTART;VALUE=DATE:20090918
DTEND;VALUE=DATE:20090919
TRANSP:TRANSPARENT
X-MICROSOFT-CDO-ALLDAYEVENT:TRUE
SUMMARY:Highway 21 Drive In Movies
DESCRIPTION:Screen # 1:  8:00pm  I Can Do Bad All By Myself  and  10:00pm Julie & Julial\nScreen # 2:  8:00pm  The Time Traveler's Wife   and  10:00pm Final Destination 4\nYour concession sales help keep us open and allows us to get the most current films for your viewing enjoyment. So come out for a full evening of family fun.  \nCost: Adults $6.  Seniors over 60 and Military $5.  Child (5-12) $2.  4 and under - Free.
X-ALT-DESC;FMTTYPE=text/html:Screen # 1:  8:00pm  I Can Do Bad All By Myself  and  10:00pm Julie & Julial\nScreen # 2:  8:00pm  The Time Traveler's Wife   and  10:00pm Final Destination 4\nYour concession sales help keep us open and allows us to get the most current films for your viewing enjoyment. So come out for a full evening of family fun.  \nCost: Adults $6.  Seniors over 60 and Military $5.  Child (5-12) $2.  4 and under - Free.
LOCATION:
UID:e.1212.3547
SEQUENCE:3
DTSTAMP:20260425T011012Z
URL:http://business.beaufortchamber.org/events/details/highway-21-drive-in-movies-09-18-2009-3547
END:VEVENT

END:VCALENDAR
