BEGIN:VCALENDAR
VERSION:2.0
PRODID:-//ChamberMaster//Event Calendar 2.0//EN
METHOD:PUBLISH
X-PUBLISHED-TTL:P3D
REFRESH-INTERVAL:P3D
CALSCALE:GREGORIAN
BEGIN:VEVENT
DTSTART;VALUE=DATE:20091030
DTEND;VALUE=DATE:20091031
TRANSP:TRANSPARENT
X-MICROSOFT-CDO-ALLDAYEVENT:TRUE
SUMMARY:Highway 21 Drive In Movies
DESCRIPTION:Screen # 1:  7:15pm  Cloudy with a Chance of Meatballs and  8:45pm Where the Wild Things Are\nScreen # 2:  7:30pm  Saw VI   and   9:10pm  Zombieland\nYour concession sales help keep us open and allows us to get the most current films for your viewing enjoyment. So come out for a full evening of family fun.  \nCost: Adults $6.  Seniors over 60 and Military $5.  Child (5-12) $2.  4 and under - Free.
X-ALT-DESC;FMTTYPE=text/html:Screen # 1:  7:15pm  Cloudy with a Chance of Meatballs and  8:45pm Where the Wild Things Are\nScreen # 2:  7:30pm  Saw VI   and   9:10pm  Zombieland\nYour concession sales help keep us open and allows us to get the most current films for your viewing enjoyment. So come out for a full evening of family fun.  \nCost: Adults $6.  Seniors over 60 and Military $5.  Child (5-12) $2.  4 and under - Free.
LOCATION:
UID:e.1212.3657
SEQUENCE:3
DTSTAMP:20260424T222008Z
URL:http://business.beaufortchamber.org/events/details/highway-21-drive-in-movies-10-30-2009-3657
END:VEVENT

END:VCALENDAR
