BEGIN:VCALENDAR
VERSION:2.0
PRODID:-//ChamberMaster//Event Calendar 2.0//EN
METHOD:PUBLISH
X-PUBLISHED-TTL:P3D
REFRESH-INTERVAL:P3D
CALSCALE:GREGORIAN
BEGIN:VEVENT
DTSTART;VALUE=DATE:20090813
DTEND;VALUE=DATE:20090814
TRANSP:TRANSPARENT
X-MICROSOFT-CDO-ALLDAYEVENT:TRUE
SUMMARY:Hilton Head Island Farmers Market
DESCRIPTION:This market is held every "Thursday" of the month.  Come stroll through the local vendors and enjoy the music.  You can get your fresh locally grown fruits and vegetables for the week.  Every week you will also find a different variety of fresh produce\, home baked and canned foods\, artwork\, flowers and other handcrafted\, locally produced goods such as organic foods\, herbs\, plants and crafts.  Open through August 27.
X-ALT-DESC;FMTTYPE=text/html:This market is held every "Thursday" of the month.  Come stroll through the local vendors and enjoy the music.  You can get your fresh locally grown fruits and vegetables for the week.  Every week you will also find a different variety of fresh produce\, home baked and canned foods\, artwork\, flowers and other handcrafted\, locally produced goods such as organic foods\, herbs\, plants and crafts.  Open through August 27.
LOCATION:
UID:e.1212.3258
SEQUENCE:3
DTSTAMP:20260425T010755Z
URL:http://business.beaufortchamber.org/events/details/hilton-head-island-farmers-market-08-13-2009-3258
END:VEVENT

END:VCALENDAR
