BEGIN:VCALENDAR
VERSION:2.0
PRODID:-//ChamberMaster//Event Calendar 2.0//EN
METHOD:PUBLISH
X-PUBLISHED-TTL:P3D
REFRESH-INTERVAL:P3D
CALSCALE:GREGORIAN
BEGIN:VEVENT
DTSTART;VALUE=DATE:20090219
DTEND;VALUE=DATE:20090220
TRANSP:TRANSPARENT
X-MICROSOFT-CDO-ALLDAYEVENT:TRUE
SUMMARY:Hilton Head Laser Eye Center Informative Talk on Lasik Surgery
DESCRIPTION:Hilton Head Laser Eye Center's Clinical Director\, Dr. Michael Campbell is giving an informative talkon Lasik Surgery at Gilligan's Restaurant on Feb. 19\, 2009 from 6pm-7pm.  A $500 discount will be given to attendees\, refreshments will be served.  Anyone interested in attending should RSVP to Dale at 843-681-8655.
X-ALT-DESC;FMTTYPE=text/html:Hilton Head Laser Eye Center's Clinical Director\, Dr. Michael Campbell is giving an informative talkon Lasik Surgery at Gilligan's Restaurant on Feb. 19\, 2009 from 6pm-7pm.  A $500 discount will be given to attendees\, refreshments will be served.  Anyone interested in attending should RSVP to Dale at 843-681-8655.
LOCATION:
UID:e.1212.2992
SEQUENCE:3
DTSTAMP:20260425T112227Z
URL:http://business.beaufortchamber.org/events/details/hilton-head-laser-eye-center-informative-talk-on-lasik-surgery-02-19-2009-2992
END:VEVENT

END:VCALENDAR
