BEGIN:VCALENDAR
VERSION:2.0
PRODID:-//ChamberMaster//Event Calendar 2.0//EN
METHOD:PUBLISH
X-PUBLISHED-TTL:P3D
REFRESH-INTERVAL:P3D
CALSCALE:GREGORIAN
BEGIN:VEVENT
DTSTART;VALUE=DATE:20090811
DTEND;VALUE=DATE:20090812
TRANSP:TRANSPARENT
X-MICROSOFT-CDO-ALLDAYEVENT:TRUE
SUMMARY:Hilton Head Laser Eye Center - LASIK Vision Correction Seminar
DESCRIPTION:Speak with Dr. Michael Campbell who knows LASIK first-hand.  Even as a professional in the eye care business\, he was completely amazed at how quick\, painless and very effective the procedure was.  He no longer needs to wear glasses or contacts after having done so for almost 30 years.  Come find out how this procedure can reduce your nearsightedness vision too.   Refreshment will be served.  Receive $500 off LASIK Correction.
X-ALT-DESC;FMTTYPE=text/html:Speak with Dr. Michael Campbell who knows LASIK first-hand.  Even as a professional in the eye care business\, he was completely amazed at how quick\, painless and very effective the procedure was.  He no longer needs to wear glasses or contacts after having done so for almost 30 years.  Come find out how this procedure can reduce your nearsightedness vision too.   Refreshment will be served.  Receive $500 off LASIK Correction.
LOCATION:
UID:e.1212.3418
SEQUENCE:3
DTSTAMP:20260425T010620Z
URL:http://business.beaufortchamber.org/events/details/hilton-head-laser-eye-center-lasik-vision-correction-seminar-08-11-2009-3418
END:VEVENT

END:VCALENDAR
