BEGIN:VCALENDAR
VERSION:2.0
PRODID:-//ChamberMaster//Event Calendar 2.0//EN
METHOD:PUBLISH
X-PUBLISHED-TTL:P3D
REFRESH-INTERVAL:P3D
CALSCALE:GREGORIAN
BEGIN:VEVENT
DTSTART:20121208T150000Z
DTEND:20121208T210000Z
X-MICROSOFT-CDO-ALLDAYEVENT:FALSE
SUMMARY:Hinesville First United Methodist Church Christmas Tour of Homes
DESCRIPTION:The Hinesville First United Methodist Church is sponsoring a Christmas Tour of Homes on Saturday\, December 8th\, from 10:00 AM - 4:00 PM. The Tour consists of four beautifully decorated homes to be found within the city of Hinesville and three on the coast of Liberty county. The style and setting of these seven homes is extremely diverse and guaranteed to provide a day full of interesting and enjoyable experiences. Add to that a High Tea (very select and delicious luncheon) in the social hall of the Hinesville United Methodist Church from 11:30 AM until 2:00 PM and you have a full day of entertainment for a mere $30. But should you wish more\, check out the luscious cakes and goodies at the Bake Shop after you have lunch. Proceeds from the Tour will fund a sanctuary renovation project spearheaded by the ladies of the church. For tickets\, contact 912-368-2200 or go to the Liberty County Chamber of Commerce and click "tour of homes". For a more detailed article on the Tour please contact me. Photographs available upon request.
X-ALT-DESC;FMTTYPE=text/html:<span style="font-size: 10pt"><span style="font-family: arial\, sans-serif">The Hinesville First United Methodist Church is sponsoring a Christmas Tour of Homes on Saturday\, December 8th\, from 10:00 AM - 4:00 PM. The Tour consists of four beautifully decorated homes to be found within the city of Hinesville and three on the coast of Liberty county. The style and setting of these seven homes is extremely diverse and guaranteed to provide a day full of interesting and enjoyable experiences. Add to that a High Tea (very select and delicious luncheon) in the social hall of the Hinesville United Methodist Church from 11:30 AM until 2:00 PM and you have a full day of entertainment for a mere $30. But should you wish more\, check out the luscious cakes and goodies at the Bake Shop after you have lunch. Proceeds from the Tour will fund a sanctuary renovation project spearheaded by the ladies of the church. For tickets\, contact 912-368-2200 or go to the Liberty County Chamber of Commerce and click &quot\;tour of homes&quot\;. For a more detailed article on the Tour please contact me. Photographs available upon request.&nbsp\;&nbsp\;</span></span>
LOCATION:
UID:e.1212.4651
SEQUENCE:3
DTSTAMP:20260422T120055Z
URL:http://business.beaufortchamber.org/events/details/hinesville-first-united-methodist-church-christmas-tour-of-homes-12-08-2012-4651
END:VEVENT

END:VCALENDAR
