BEGIN:VCALENDAR
VERSION:2.0
PRODID:-//ChamberMaster//Event Calendar 2.0//EN
METHOD:PUBLISH
X-PUBLISHED-TTL:P3D
REFRESH-INTERVAL:P3D
CALSCALE:GREGORIAN
BEGIN:VEVENT
DTSTART;VALUE=DATE:20100129
DTEND;VALUE=DATE:20100130
TRANSP:TRANSPARENT
X-MICROSOFT-CDO-ALLDAYEVENT:TRUE
SUMMARY:Historic Beaufort Foundation - 10th Annual Oyster Roast
DESCRIPTION:Come out and show your support to foster the fellowship in preservation of the community while gaining new members and funds for the Foundation's preservation and museum activities.  We operate the John Mark Verdier House\, the only house museum in Beaufort built ca. 1804.  \nThe ca. 1810 plantation home and grounds will only be open to ticket holders.\nCost:  $40 and includes oysters\, chicken gumbo\, corn bread\, beverages\, dessert and music by the Lowcountry Ramblers.\nGuest\, who have never been members of the foundation will receive a one-year complimentary membership with the price of the ticket.\nReservations must be made for 5:30pm or 7:00pm.  Tickets will not be sold at the door and must be purchased by Tuesday\, January 26.  \nCall\, order on line or pick up tickets at 208 West St. Mon - Fri from 9-5.
X-ALT-DESC;FMTTYPE=text/html:Come out and show your support to foster the fellowship in preservation of the community while gaining new members and funds for the Foundation's preservation and museum activities.  We operate the John Mark Verdier House\, the only house museum in Beaufort built ca. 1804.  \nThe ca. 1810 plantation home and grounds will only be open to ticket holders.\nCost:  $40 and includes oysters\, chicken gumbo\, corn bread\, beverages\, dessert and music by the Lowcountry Ramblers.\nGuest\, who have never been members of the foundation will receive a one-year complimentary membership with the price of the ticket.\nReservations must be made for 5:30pm or 7:00pm.  Tickets will not be sold at the door and must be purchased by Tuesday\, January 26.  \nCall\, order on line or pick up tickets at 208 West St. Mon - Fri from 9-5.
LOCATION:
UID:e.1212.3747
SEQUENCE:3
DTSTAMP:20260424T184213Z
URL:http://business.beaufortchamber.org/events/details/historic-beaufort-foundation-10th-annual-oyster-roast-01-29-2010-3747
END:VEVENT

END:VCALENDAR
