BEGIN:VCALENDAR
VERSION:2.0
PRODID:-//ChamberMaster//Event Calendar 2.0//EN
METHOD:PUBLISH
X-PUBLISHED-TTL:P3D
REFRESH-INTERVAL:P3D
CALSCALE:GREGORIAN
BEGIN:VEVENT
DTSTART;VALUE=DATE:20100125
DTEND;VALUE=DATE:20100126
TRANSP:TRANSPARENT
X-MICROSOFT-CDO-ALLDAYEVENT:TRUE
SUMMARY:Historic Beaufort Foundation - Dinner & Lecture
DESCRIPTION:Join local author William McIntosh III who has written the first complete account of the virtually forgotten war known as the Yemassee Indian War from 1715-1728 and all but wiped out South Carolina.  His book\, "Indian's Revenge" published in fall 2009 is based on his research in orginal sources and gives a factual account of the era including a comparison of the lives of settlers and Indians\, and South Carolina's difficult relationships with the French in Louisiana and the Spanish in Florida.  The lecture series will be held the 4th Monday of each month Jan - June.\nCost: $15 Member/$25per Member Couple   \nCost: $20 Non-Member/$30 per Non-Member Couple\nIncludes program preceded by Wine/Refreshments  \nIf interested\, a 3 Course dinner at Saltus River Grill will be served following each lecture - Cost $19 per person.
X-ALT-DESC;FMTTYPE=text/html:Join local author William McIntosh III who has written the first complete account of the virtually forgotten war known as the Yemassee Indian War from 1715-1728 and all but wiped out South Carolina.  His book\, "Indian's Revenge" published in fall 2009 is based on his research in orginal sources and gives a factual account of the era including a comparison of the lives of settlers and Indians\, and South Carolina's difficult relationships with the French in Louisiana and the Spanish in Florida.  The lecture series will be held the 4th Monday of each month Jan - June.\nCost: $15 Member/$25per Member Couple   \nCost: $20 Non-Member/$30 per Non-Member Couple\nIncludes program preceded by Wine/Refreshments  \nIf interested\, a 3 Course dinner at Saltus River Grill will be served following each lecture - Cost $19 per person.
LOCATION:
UID:e.1212.3748
SEQUENCE:3
DTSTAMP:20260424T183339Z
URL:http://business.beaufortchamber.org/events/details/historic-beaufort-foundation-dinner-lecture-01-25-2010-3748
END:VEVENT

END:VCALENDAR
