BEGIN:VCALENDAR
VERSION:2.0
PRODID:-//ChamberMaster//Event Calendar 2.0//EN
METHOD:PUBLISH
X-PUBLISHED-TTL:P3D
REFRESH-INTERVAL:P3D
CALSCALE:GREGORIAN
BEGIN:VEVENT
DTSTART;VALUE=DATE:20101022
DTEND;VALUE=DATE:20101023
TRANSP:TRANSPARENT
X-MICROSOFT-CDO-ALLDAYEVENT:TRUE
SUMMARY:Historic Beaufort Foundation - Fall Festival of Houses and Gardens
DESCRIPTION:Watch for details coming soon !
X-ALT-DESC;FMTTYPE=text/html:Watch for details coming soon !
LOCATION:
UID:e.1212.3777
SEQUENCE:3
DTSTAMP:20260424T041902Z
URL:http://business.beaufortchamber.org/events/details/historic-beaufort-foundation-fall-festival-of-houses-and-gardens-10-22-2010-3777
END:VEVENT

END:VCALENDAR
