BEGIN:VCALENDAR
VERSION:2.0
PRODID:-//ChamberMaster//Event Calendar 2.0//EN
METHOD:PUBLISH
X-PUBLISHED-TTL:P3D
REFRESH-INTERVAL:P3D
CALSCALE:GREGORIAN
BEGIN:VEVENT
DTSTART;VALUE=DATE:20090930
DTEND;VALUE=DATE:20091001
TRANSP:TRANSPARENT
X-MICROSOFT-CDO-ALLDAYEVENT:TRUE
SUMMARY:Historic Beaufort Foundation - Preservation of Historical Records
DESCRIPTION:Join us for a special evening with Dr. Larry Rowland\, Beaufort County's preeminent historian\, as he presents the preservation of the written and photographic historical records of our nationally significant region.  He will cover the importance of documents\, with a special emphasis on the history of the library and loss of critical records over the years.  Evan R. Thompson\, HBF Executive Director\, will also articulate the critical need to ensure that the Beaufort District Collection of the Beaufort County Library is moved to a spacious\, state of the art room.  This is an effort to create a one-stop archive of historical information to ensure that Beaufort's story will be preserved and reach a wide audience.\nWine and cheese reception following the program\nFree and open to the public.  \nNo contribution will be too small to help preserve our archival heritage !
X-ALT-DESC;FMTTYPE=text/html:Join us for a special evening with Dr. Larry Rowland\, Beaufort County's preeminent historian\, as he presents the preservation of the written and photographic historical records of our nationally significant region.  He will cover the importance of documents\, with a special emphasis on the history of the library and loss of critical records over the years.  Evan R. Thompson\, HBF Executive Director\, will also articulate the critical need to ensure that the Beaufort District Collection of the Beaufort County Library is moved to a spacious\, state of the art room.  This is an effort to create a one-stop archive of historical information to ensure that Beaufort's story will be preserved and reach a wide audience.\nWine and cheese reception following the program\nFree and open to the public.  \nNo contribution will be too small to help preserve our archival heritage !
LOCATION:
UID:e.1212.3573
SEQUENCE:3
DTSTAMP:20260424T235135Z
URL:http://business.beaufortchamber.org/events/details/historic-beaufort-foundation-preservation-of-historical-records-09-30-2009-3573
END:VEVENT

END:VCALENDAR
