BEGIN:VCALENDAR
VERSION:2.0
PRODID:-//ChamberMaster//Event Calendar 2.0//EN
METHOD:PUBLISH
X-PUBLISHED-TTL:P3D
REFRESH-INTERVAL:P3D
CALSCALE:GREGORIAN
BEGIN:VEVENT
DTSTART:20120726T220000Z
DTEND:20120727T010000Z
X-MICROSOFT-CDO-ALLDAYEVENT:FALSE
SUMMARY:Historic Beaufort - Supper Society
DESCRIPTION:Please join Historic Beaufort Foundation and Main Street Beaufort for an unforgettable dining experience. Chefs Stephanie Capers (Sweet Grass Restaurant) and Sherri Whitmire (Gullah-N-Geechie Mahn) will prepare a delicious four course  Lowcountry supper featuring fresh pork from Tuten Meats in Ridgeland\, SC and emphasizing local and sustainable produce. Location and full menu will be revealed to guests on Tuesday\, July 24th.
X-ALT-DESC;FMTTYPE=text/html:<span style="font-size: 11pt"><span style="color: #245b7c"><span style="font-family: calibri\, sans-serif">Please join Historic Beaufort Foundation and Main Street Beaufort for an unforgettable dining experience. Chefs Stephanie Capers (Sweet Grass Restaurant) and Sherri Whitmire (Gullah-N-Geechie Mahn) will prepare a delicious four course&nbsp\; Lowcountry supper featuring fresh pork from Tuten Meats in Ridgeland\, SC and emphasizing local and sustainable produce. Location and full menu will be revealed to guests on Tuesday\, July 24th.</span></span></span>
LOCATION:Location and full menu will be revealed to guests on Tuesday\, July 24th.
UID:e.1212.4565
SEQUENCE:3
DTSTAMP:20260422T191309Z
URL:http://business.beaufortchamber.org/events/details/historic-beaufort-supper-society-07-26-2012-4565
END:VEVENT

END:VCALENDAR
