BEGIN:VCALENDAR
VERSION:2.0
PRODID:-//ChamberMaster//Event Calendar 2.0//EN
METHOD:PUBLISH
X-PUBLISHED-TTL:P3D
REFRESH-INTERVAL:P3D
CALSCALE:GREGORIAN
BEGIN:VEVENT
DTSTART;VALUE=DATE:20091106
DTEND;VALUE=DATE:20091107
TRANSP:TRANSPARENT
X-MICROSOFT-CDO-ALLDAYEVENT:TRUE
SUMMARY:Historic Port Royal Foundation - History of Port Royal
DESCRIPTION:Speaker: Retired U.S. Air Force Officer and History Professor\, Steve Bacon\, University of South Carolina Beaufort and Technical College of the Lowcountry\nTopic: "The History of Port Royal: Where it all Began"\nCost: $10  Seating is limited and on a first come\, first served basis
X-ALT-DESC;FMTTYPE=text/html:Speaker: Retired U.S. Air Force Officer and History Professor\, Steve Bacon\, University of South Carolina Beaufort and Technical College of the Lowcountry\nTopic: "The History of Port Royal: Where it all Began"\nCost: $10  Seating is limited and on a first come\, first served basis
LOCATION:
UID:e.1212.3679
SEQUENCE:3
DTSTAMP:20260424T222019Z
URL:http://business.beaufortchamber.org/events/details/historic-port-royal-foundation-history-of-port-royal-11-06-2009-3679
END:VEVENT

END:VCALENDAR
