BEGIN:VCALENDAR
VERSION:2.0
PRODID:-//ChamberMaster//Event Calendar 2.0//EN
METHOD:PUBLISH
X-PUBLISHED-TTL:P3D
REFRESH-INTERVAL:P3D
CALSCALE:GREGORIAN
BEGIN:VEVENT
DTSTART:20111118T160000Z
DTEND:20111121T010000Z
X-MICROSOFT-CDO-ALLDAYEVENT:FALSE
SUMMARY:Holiday Home Tour "Coastal Christmas"
DESCRIPTION:Holiday Home Tours starts off on Thursday evening with a catered event presenting as a  "Silver-Themed" Anniversary Gala Party.  The night includes the Headliners for your musical entertainment and  a silent auction\n\n	\n\n	Saturday and Sunday includes tours of seven privately owned homes in the village of Habersham which will be decorated by local interior and floral designers\n\n	\n\n	Look for the Silver and White balloons ... because it is a party !\n\n	\n\n	Proceeds to benefit the St. Peters Catholic School Endowment Fund
X-ALT-DESC;FMTTYPE=text/html:<p>\n	Holiday Home Tours starts off on Thursday&nbsp\;evening with&nbsp\;a catered event presenting as&nbsp\;a &nbsp\;&quot\;Silver-Themed&quot\; Anniversary Gala Party.&nbsp\; The night&nbsp\;includes the Headliners for your musical entertainment and&nbsp\; a silent auction<br />\n	<br />\n	Saturday and Sunday includes tours of seven privately owned homes in the village of Habersham which will be&nbsp\;decorated by&nbsp\;local interior and floral designers<br />\n	<br />\n	Look for the Silver and White balloons ... because it is a party !<br />\n	<br />\n	Proceeds to benefit the St. Peters Catholic School Endowment Fund<br />\n	&nbsp\;</p>\n
LOCATION:Thursday Event: St. Peter Catholic Church Walsh Palmetto Room 70 Lady's Island Drive Beaufort\, SC 29907 Friday/Saturday Events: Habersham 22 Market Beaufort\, SC 29906
UID:e.1212.4318
SEQUENCE:3
DTSTAMP:20260423T074247Z
URL:http://business.beaufortchamber.org/events/details/holiday-home-tour-coastal-christmas-11-18-2011-4318
END:VEVENT

END:VCALENDAR
