BEGIN:VCALENDAR
VERSION:2.0
PRODID:-//ChamberMaster//Event Calendar 2.0//EN
METHOD:PUBLISH
X-PUBLISHED-TTL:P3D
REFRESH-INTERVAL:P3D
CALSCALE:GREGORIAN
BEGIN:VEVENT
DTSTART:20131219T150000Z
DTEND:20131219T200000Z
X-MICROSOFT-CDO-ALLDAYEVENT:FALSE
SUMMARY:Holiday Open House
DESCRIPTION:A festive\, creative Holiday Open House featuring:\n\n	\n		Leah Palumbo from Low Country Land Design\, who will be featuring her holiday wreaths\n	\n		Kathleen Brady-Lacey from The Tasty Basket with her holiday Goodies and Baskets\n	\n		Catherine Guerard from The Knittin' Fool who will be featuring hand crafted knitwear.   \n	\n		Mary LaMore from Mary's Creations with her Candles and Jewelry in time for holiday giving\n	\n		Heather Szedar and Nikki Hardison with Pampered Chef to help you with your holiday meals\n	\n		Candice Fritz from United Hospice will be selling butterfly ornaments to raise money for Kids Camp in March\n	\n		Chelsea Reed singing Christmas Carols!\n\n\n\nThe Visitor Center will also be collecting new unwrapped toys for the annual Toys for Tots drive.
X-ALT-DESC;FMTTYPE=text/html:A festive\, creative Holiday Open House featuring:\n<ul>\n	<li>\n		Leah Palumbo&nbsp\;from Low Country Land Design\, who will be featuring her holiday wreaths</li>\n	<li>\n		Kathleen Brady-Lacey&nbsp\;from The Tasty Basket with her holiday Goodies and Baskets</li>\n	<li>\n		Catherine Guerard from&nbsp\;The Knittin&#39\; Fool who will be featuring hand crafted knitwear.&nbsp\; &nbsp\;</li>\n	<li>\n		Mary LaMore&nbsp\;from Mary&#39\;s Creations with her Candles and Jewelry in time for holiday giving</li>\n	<li>\n		Heather Szedar and Nikki Hardison with Pampered Chef to help you with your holiday meals</li>\n	<li>\n		Candice Fritz from United Hospice will be selling butterfly ornaments to raise money for Kids Camp in March</li>\n	<li>\n		Chelsea Reed singing Christmas Carols!</li>\n</ul>\n<br />\nThe Visitor Center will also be collecting new unwrapped toys for the annual Toys for Tots drive.<br />\n
LOCATION:Historic Arsenal Courtyard 713 Craven Street
UID:e.1212.5146
SEQUENCE:3
DTSTAMP:20260421T151537Z
URL:http://business.beaufortchamber.org/events/details/holiday-open-house-12-19-2013-5146
END:VEVENT

END:VCALENDAR
