BEGIN:VCALENDAR
VERSION:2.0
PRODID:-//ChamberMaster//Event Calendar 2.0//EN
METHOD:PUBLISH
X-PUBLISHED-TTL:P3D
REFRESH-INTERVAL:P3D
CALSCALE:GREGORIAN
BEGIN:VEVENT
DTSTART:20131025T180000Z
DTEND:20131025T203000Z
X-MICROSOFT-CDO-ALLDAYEVENT:FALSE
SUMMARY:Home Run Derby! - HIlton Head Library
DESCRIPTION:Event Name: Home Run Derby! \n\nShort Description of Event: School's out\, so drop in between 2:00-4:30 to test your hitting skills.  We'll use Wii baseball to see who our very own homerun kings are\, so come on by and give it a swing!  For kids in Kindergarten and up.  \n\nTime and Date of Event:  Friday\, October 25\, 2013\n\nLocation of Event:  Hilton Head Library\, 11 Beach City Road\, Hilton Head SC 29926\n\nPrice of Event: Free\n\nContact info: 843-255-6529\, gcrispell@bcgov.net
X-ALT-DESC;FMTTYPE=text/html:<span style="font-size: medium\;"><span style="font-family: calibri\;"><strong>Event Name:</strong>&nbsp\;Home Run Derby! </span></span><br />\n<span style="font-size: medium\;"><span style="font-family: calibri\;"><strong>Short Description of Event: </strong>School&rsquo\;s out\, so drop in between 2:00-4:30 to test your hitting skills.&nbsp\; We&rsquo\;ll use Wii baseball to see who our very own homerun kings are\, so come on by and give it a swing!&nbsp\; For kids in Kindergarten and up.&nbsp\; </span></span><br />\n<span style="font-size: medium\;"><span style="font-family: calibri\;"><strong>Time and Date of Event:</strong>&nbsp\; Friday\, October 25\, 2013</span></span><br />\n<span style="font-size: medium\;"><span style="font-family: calibri\;"><strong>Location of Event:</strong>&nbsp\; Hilton Head Library\, 11 Beach City Road\, Hilton Head SC 29926</span></span><br />\n<span style="font-size: medium\;"><span style="font-family: calibri\;"><strong>Price of Event: </strong>Free</span></span><br />\n<strong><span style="font-size: 11pt\;"><span style="font-family: calibri\,sans-serif\;">Contact info:</span></span></strong><span style="font-size: 11pt\;"><span style="font-family: calibri\,sans-serif\;"> 843-255-6529\, </span><a href="mailto:gcrispell@bcgov.net"><span style="color: rgb(0\, 0\, 255)\;">gcrispell@bcgov.net</span></a></span>
LOCATION:
UID:e.1212.5068
SEQUENCE:3
DTSTAMP:20260421T181937Z
URL:http://business.beaufortchamber.org/events/details/home-run-derby-hilton-head-library-10-25-2013-5068
END:VEVENT

END:VCALENDAR
