BEGIN:VCALENDAR
VERSION:2.0
PRODID:-//ChamberMaster//Event Calendar 2.0//EN
METHOD:PUBLISH
X-PUBLISHED-TTL:P3D
REFRESH-INTERVAL:P3D
CALSCALE:GREGORIAN
BEGIN:VEVENT
DTSTART:20131213T170000Z
DTEND:20131213T170000Z
X-MICROSOFT-CDO-ALLDAYEVENT:FALSE
SUMMARY:Home Shopping Night
DESCRIPTION:Auston Chase Apartments is hosting a Home Shopping Night! Featuring Pampered Chef\, Tastefully Simple\, Thirty-One\, Partylite\, Premier Jewelry\, Clothing Accessories\, Pet Products and more... Enjoy Complimentary Wine & Cheese while you shop!
X-ALT-DESC;FMTTYPE=text/html:Auston Chase Apartments is hosting a Home Shopping Night! Featuring Pampered Chef\, Tastefully Simple\, Thirty-One\, Partylite\, Premier Jewelry\, Clothing Accessories\, Pet Products and more... Enjoy Complimentary Wine &amp\; Cheese while you shop! 
LOCATION:Auston Chase Apartment Homes 59 Summerlake Circle\, Ridgeland\, SC Off Argent Blvd. \, between Hwy 278 & Hwy 170
UID:e.1212.5140
SEQUENCE:3
DTSTAMP:20260421T151648Z
URL:http://business.beaufortchamber.org/events/details/home-shopping-night-12-13-2013-5140
END:VEVENT

END:VCALENDAR
