BEGIN:VCALENDAR
VERSION:2.0
PRODID:-//ChamberMaster//Event Calendar 2.0//EN
METHOD:PUBLISH
X-PUBLISHED-TTL:P3D
REFRESH-INTERVAL:P3D
CALSCALE:GREGORIAN
BEGIN:VEVENT
DTSTART:20121020T233000Z
DTEND:20121029T190000Z
X-MICROSOFT-CDO-ALLDAYEVENT:FALSE
SUMMARY:Honky Tonk Angels - Musical Comedy
DESCRIPTION:A rollicking country/pop musical comedy that follows the hilarious escapades of a female singing group in Honky Tonk Heaven. Songs include "9-5"\, "Coal Miner's Daughter"\, "Stand by Your Man"\, "Harper Valley PTA" and "I Will Always Love You". Starring Velma Polk\, Penney Dawson\, Elaine Lake and the Honky Tonky Heaven Band. If you loved "Always Patsy Cline" this a great follow   up musical treat.
X-ALT-DESC;FMTTYPE=text/html:<strong>A rollicking country/pop musical comedy </strong>that follows the hilarious escapades of a female singing group in Honky Tonk Heaven. Songs include &ldquo\;9-5&rdquo\;\, &ldquo\;Coal Miner&rsquo\;s Daughter&rdquo\;\, &ldquo\;Stand by Your Man&rdquo\;\, &ldquo\;Harper Valley PTA&rdquo\; and &ldquo\;I Will Always Love You&rdquo\;. Starring Velma Polk\, Penney Dawson\, Elaine Lake and the Honky Tonky Heaven Band. If you loved &ldquo\;Always&hellip\;Patsy Cline&rdquo\; this a great follow &ndash\; up musical treat. 
LOCATION:USCB Center for the Arts 801 Carteret Street Beaufort SC 29902
UID:e.1212.4624
SEQUENCE:3
DTSTAMP:20260422T150717Z
URL:http://business.beaufortchamber.org/events/details/honky-tonk-angels-musical-comedy-10-20-2012-4624
END:VEVENT

END:VCALENDAR
