BEGIN:VCALENDAR
VERSION:2.0
PRODID:-//ChamberMaster//Event Calendar 2.0//EN
METHOD:PUBLISH
X-PUBLISHED-TTL:P3D
REFRESH-INTERVAL:P3D
CALSCALE:GREGORIAN
BEGIN:VEVENT
DTSTART;VALUE=DATE:20090110
DTEND;VALUE=DATE:20090111
TRANSP:TRANSPARENT
X-MICROSOFT-CDO-ALLDAYEVENT:TRUE
SUMMARY:Hope Haven of the Lowcountry Sexual Abuse Prevention Workshop
DESCRIPTION:The Darkness to Light "Stewards of Children" workshop is a comprehensive prevention program that educates and teaches adults to recognize\, prevent\, and react responsibly.  Free and open to the public.
X-ALT-DESC;FMTTYPE=text/html:The Darkness to Light "Stewards of Children" workshop is a comprehensive prevention program that educates and teaches adults to recognize\, prevent\, and react responsibly.  Free and open to the public.
LOCATION:
UID:e.1212.2878
SEQUENCE:3
DTSTAMP:20260425T125216Z
URL:http://business.beaufortchamber.org/events/details/hope-haven-of-the-lowcountry-sexual-abuse-prevention-workshop-01-10-2009-2878
END:VEVENT

END:VCALENDAR
