BEGIN:VCALENDAR
VERSION:2.0
PRODID:-//ChamberMaster//Event Calendar 2.0//EN
METHOD:PUBLISH
X-PUBLISHED-TTL:P3D
REFRESH-INTERVAL:P3D
CALSCALE:GREGORIAN
BEGIN:VEVENT
DTSTART;VALUE=DATE:20130119
DTEND;VALUE=DATE:20130120
TRANSP:TRANSPARENT
X-MICROSOFT-CDO-ALLDAYEVENT:TRUE
SUMMARY:Horton Golf Tournament to Benefit Beaufort Academy
DESCRIPTION:South Carolina National Golf Club\, Cat Island\, SC. For details on the event or information on sponsorship opportunities\, please contact Rebecca W. Bass. Director of Development and Alumni Relations\, Beaufort Academy. 843-524-3393 or rbass@beaufortacademy.org.
X-ALT-DESC;FMTTYPE=text/html:<span style="color: #632423"><span style="font-family: arial\, sans-serif"><span style="font-size: medium">South Carolina National Golf Club\, Cat Island\, SC. For details on the event or information on sponsorship opportunities\, please contact Rebecca W. Bass. Director of Development and Alumni Relations\, Beaufort Academy. 843-524-3393 or </span></span><a href="mailto:rbass@beaufortacademy.org"><span style="font-size: medium"><span style="color: #0000ff">rbass@beaufortacademy.org</span></span></a></span><span style="font-size: medium">.</span><br />\n
LOCATION:
UID:e.1212.4646
SEQUENCE:3
DTSTAMP:20260422T102138Z
URL:http://business.beaufortchamber.org/events/details/horton-golf-tournament-to-benefit-beaufort-academy-01-19-2013-4646
END:VEVENT

END:VCALENDAR
