BEGIN:VCALENDAR
VERSION:2.0
PRODID:-//ChamberMaster//Event Calendar 2.0//EN
METHOD:PUBLISH
X-PUBLISHED-TTL:P3D
REFRESH-INTERVAL:P3D
CALSCALE:GREGORIAN
BEGIN:VEVENT
DTSTART;VALUE=DATE:20090212
DTEND;VALUE=DATE:20090213
TRANSP:TRANSPARENT
X-MICROSOFT-CDO-ALLDAYEVENT:TRUE
SUMMARY:Hospice Care of the Lowcountry - 'Hospice\, Hearts and Handbags'
DESCRIPTION:Enjoy an evening of fine wine and hors d'oeuvres.   LILL Studios\, as seen on NBC's Today Show\, The Early Show\, People's and "O" Magazines\, will be on hand to help you select from an array of fabrics and designs to make your very own handbag.  Dress is Cocktail Casual.   RSVP by  Wednesday \, February 4.    Tickets $25
X-ALT-DESC;FMTTYPE=text/html:Enjoy an evening of fine wine and hors d'oeuvres.   LILL Studios\, as seen on NBC's Today Show\, The Early Show\, People's and "O" Magazines\, will be on hand to help you select from an array of fabrics and designs to make your very own handbag.  Dress is Cocktail Casual.   RSVP by  Wednesday \, February 4.    Tickets $25
LOCATION:
UID:e.1212.2915
SEQUENCE:3
DTSTAMP:20260425T113119Z
URL:http://business.beaufortchamber.org/events/details/hospice-care-of-the-lowcountry-hospice-hearts-and-handbags-02-12-2009-2915
END:VEVENT

END:VCALENDAR
