BEGIN:VCALENDAR
VERSION:2.0
PRODID:-//ChamberMaster//Event Calendar 2.0//EN
METHOD:PUBLISH
X-PUBLISHED-TTL:P3D
REFRESH-INTERVAL:P3D
CALSCALE:GREGORIAN
BEGIN:VEVENT
DTSTART;VALUE=DATE:20091024
DTEND;VALUE=DATE:20091025
TRANSP:TRANSPARENT
X-MICROSOFT-CDO-ALLDAYEVENT:TRUE
SUMMARY:Humane Association of the Lowcountry - Oyster Roast - Yum ! !
DESCRIPTION:Come out for an evening of fun and a "Howling Good Time"\nProceeds to benefit the Humane Association of the Lowcountry\nCost: $30 per person or $55 per couple
X-ALT-DESC;FMTTYPE=text/html:Come out for an evening of fun and a "Howling Good Time"\nProceeds to benefit the Humane Association of the Lowcountry\nCost: $30 per person or $55 per couple
LOCATION:
UID:e.1212.3644
SEQUENCE:3
DTSTAMP:20260424T234443Z
URL:http://business.beaufortchamber.org/events/details/humane-association-of-the-lowcountry-oyster-roast-yum-10-24-2009-3644
END:VEVENT

END:VCALENDAR
