BEGIN:VCALENDAR
VERSION:2.0
PRODID:-//ChamberMaster//Event Calendar 2.0//EN
METHOD:PUBLISH
X-PUBLISHED-TTL:P3D
REFRESH-INTERVAL:P3D
CALSCALE:GREGORIAN
BEGIN:VEVENT
DTSTART:20130417T184500Z
DTEND:20130417T210000Z
X-MICROSOFT-CDO-ALLDAYEVENT:FALSE
SUMMARY:Innoventure Conference
DESCRIPTION:Greenville based InnoVenture and Bluffton's Don Ryan Center for Innovation are teaming to connect the region's innovators with business resources.  The Blulffton-Hilton Head Island Area Town Visit will be held April 17th at the Rotary Community Center - Oscar Frazier Park (11 Recreation Court\, Bluffton.  The event will provide a forum for several innovators to present their ideas and products to the local business community in hope of connecting with necessary resources to support their launch into the marketplace.
X-ALT-DESC;FMTTYPE=text/html:Greenville based InnoVenture and Bluffton&#39\;s Don Ryan Center for Innovation are teaming to connect the region&#39\;s innovators with business resources.&nbsp\; The Blulffton-Hilton Head Island Area Town Visit will be held April 17th at the Rotary Community Center - Oscar Frazier Park (11 Recreation Court\, Bluffton.&nbsp\; The event will provide a forum for several innovators to present their ideas and products to the local business community in hope of connecting with necessary resources to support their launch into the marketplace.
LOCATION:Rotary Community Center\, Oscar Frazier Park\, 11 Recreation Court\, Bluffton SC
UID:e.1212.4970
SEQUENCE:3
DTSTAMP:20260422T050620Z
URL:http://business.beaufortchamber.org/events/details/innoventure-conference-04-17-2013-4970
END:VEVENT

END:VCALENDAR
