BEGIN:VCALENDAR
VERSION:2.0
PRODID:-//ChamberMaster//Event Calendar 2.0//EN
METHOD:PUBLISH
X-PUBLISHED-TTL:P3D
REFRESH-INTERVAL:P3D
CALSCALE:GREGORIAN
BEGIN:VEVENT
DTSTART:20130213T230000Z
DTEND:20130214T010000Z
X-MICROSOFT-CDO-ALLDAYEVENT:FALSE
SUMMARY:International Film Festival
DESCRIPTION:Filmmakers Opening Night Reception/ Ticketed Event @ 6 pm- 8pm \n\n	$20 (BFS Members) $30 (Non Members) \n\n	@Old Bay Marketplace Rooftop\, 917 Bay Street\, Beaufort
X-ALT-DESC;FMTTYPE=text/html:<p align="LEFT">\n	&nbsp\;</p>\n<p>\n	<font size="3">Filmmakers Opening Night Reception/ Ticketed Event @ </font><b><font face="Times New Roman\,Times New Roman" size="3"><font face="Times New Roman\,Times New Roman" size="3">6 pm- 8pm </font></font></b></p>\n<p>\n	<b><font face="Times New Roman\,Times New Roman" size="3"><font face="Times New Roman\,Times New Roman" size="3">$20 (BFS Members) $30 (Non Members) </font></font></b></p>\n<p>\n	<font size="3">@Old Bay Marketplace Rooftop\, 917 Bay Street\, Beaufort </font></p>\n
LOCATION:@Old Bay Marketplace Rooftop\, 917 Bay Street\, Beaufort
UID:e.1212.4700
SEQUENCE:3
DTSTAMP:20260422T090228Z
URL:http://business.beaufortchamber.org/events/details/international-film-festival-02-13-2013-4700
END:VEVENT

END:VCALENDAR
