BEGIN:VCALENDAR
VERSION:2.0
PRODID:-//ChamberMaster//Event Calendar 2.0//EN
METHOD:PUBLISH
X-PUBLISHED-TTL:P3D
REFRESH-INTERVAL:P3D
CALSCALE:GREGORIAN
BEGIN:VEVENT
DTSTART:20130215T140000Z
DTEND:20130216T020000Z
X-MICROSOFT-CDO-ALLDAYEVENT:FALSE
SUMMARY:International Film Festival
DESCRIPTION:Tickets are now on sale at the Visitor Center in the Historic Arsenal for the 2013 Beaufort International Film Festival. \n\n	\n\n	Mike Tollin is to receive the Jean Ribaut Award for Excellence in Filmmaking\, and Chris Brinker is to receive the Robert Smalls Indie Vision Award. \n\n	\n\n	The Filmmakers Opening Reception is Wednesday\, February 13 at Old Bay Marketplace Rooftop.  We also have tickets to this. \n\n	 \n\n	There are 34 independent films and 10 screenplays that have been chosen from nearly 200 entries worldwide.  Films will screen at USCB Center for the Arts.  \n\n	 \n\n	Film Screenings @ 9am-7:30pm (last film starts)
X-ALT-DESC;FMTTYPE=text/html:<p align="left">\n	&nbsp\;</p>\n<p style="margin: 0in 0in 0pt\;">\n	<span style="color: rgb(36\, 91\, 124)\; font-family: &quot\;calibri&quot\;\,&quot\;sans-serif&quot\;\;"><font size="3">&nbsp\;Tickets are now on sale at the Visitor Center in the Historic Arsenal&nbsp\;for the 2013 Beaufort International Film Festival.&nbsp\;<o:p></o:p></font></span></p>\n<p style="margin: 0in 0in 0pt\;">\n	<br />\n	<span style="color: rgb(36\, 91\, 124)\; font-family: &quot\;calibri&quot\;\,&quot\;sans-serif&quot\;\;"><font size="3"><span color="#000000" face="Times New Roman">Mike Tollin is to receive the Jean Ribaut Award for Excellence in Filmmaking\, and Chris Brinker is to receive the Robert Smalls Indie Vision Award.&nbsp\;<o:p></o:p></span></font></span></p>\n<p style="margin: 0in 0in 0pt\;">\n	<br />\n	<span style="color: rgb(36\, 91\, 124)\; font-family: &quot\;calibri&quot\;\,&quot\;sans-serif&quot\;\;"><font size="3">The Filmmakers Opening Reception is Wednesday\, February 13 at Old Bay Marketplace Rooftop.&nbsp\; We also have tickets to this.&nbsp\;<o:p></o:p></font></span></p>\n<p style="margin: 0in 0in 0pt\;">\n	<span style="color: rgb(36\, 91\, 124)\; font-family: &quot\;calibri&quot\;\,&quot\;sans-serif&quot\;\;"><font size="3">&nbsp\;<o:p></o:p></font></span></p>\n<p style="margin: 0in 0in 0pt\;">\n	<span style="color: rgb(36\, 91\, 124)\; font-family: &quot\;calibri&quot\;\,&quot\;sans-serif&quot\;\;"><font size="3">There are 34 independent films and 10 screenplays that have been chosen from nearly 200 entries worldwide.&nbsp\; Films will screen at USCB Center for the Arts.&nbsp\; <o:p></o:p></font></span></p>\n<p align="left">\n	&nbsp\;</p>\n<p>\n	<font size="3">Film Screenings @ </font><b><font face="Times New Roman\,Times New Roman" size="3"><font face="Times New Roman\,Times New Roman" size="3">9am-7:30pm </font></font></b><font size="3">(last film starts) </font></p>\n
LOCATION:
UID:e.1212.4702
SEQUENCE:3
DTSTAMP:20260422T104256Z
URL:http://business.beaufortchamber.org/events/details/international-film-festival-02-15-2013-4702
END:VEVENT

END:VCALENDAR
