BEGIN:VCALENDAR
VERSION:2.0
PRODID:-//ChamberMaster//Event Calendar 2.0//EN
METHOD:PUBLISH
X-PUBLISHED-TTL:P3D
REFRESH-INTERVAL:P3D
CALSCALE:GREGORIAN
BEGIN:VEVENT
DTSTART:20130216T130000Z
DTEND:20130217T030000Z
X-MICROSOFT-CDO-ALLDAYEVENT:FALSE
SUMMARY:International Film Festival
DESCRIPTION:Saturday\, February 16 \n\n	Film Screenings @ 9am-2pm (last film starts) \n\n	Awards Ceremony Cocktail Hour-7pm Awards Presentations -8pm \n\n	@ University of South Carolina\, Beaufort\, Center for the Arts \n\n	Single Ticket $20 (BFS Members) $25 (Non members) (included in All Events Pass) \n\n	Catering by Debbi Covington (Champagne included)
X-ALT-DESC;FMTTYPE=text/html:<p align="left">\n	&nbsp\;</p>\n<p>\n	<b><font size="3">Saturday\, February 16 </font></b></p>\n<p>\n	<font face="Times New Roman\,Times New Roman" size="3"><font face="Times New Roman\,Times New Roman" size="3">Film Screenings @ </font></font><b><font size="3"><font face="Times New Roman">9am-2pm </font></font></b><font face="Times New Roman\,Times New Roman" size="3"><font face="Times New Roman\,Times New Roman" size="3">(last film starts) </font></font></p>\n<p>\n	<b><font size="3">Awards Ceremony Cocktail Hour-7pm Awards Presentations </font></b><font face="Times New Roman\,Times New Roman" size="3"><font face="Times New Roman\,Times New Roman" size="3">-</font></font><b><font size="3">8pm</font></b><b><font size="3"> </font></b></p>\n<p>\n	<font face="Times New Roman\,Times New Roman" size="3"><font face="Times New Roman\,Times New Roman" size="3">@ University of South Carolina\, Beaufort\, Center for the Arts </font></font></p>\n<p>\n	<b><font size="3">Single Ticket $20 (BFS Members) $25 (Non members) (included in All Events Pass) </font></b></p>\n<p>\n	<font face="Times New Roman\,Times New Roman" size="3"><font face="Times New Roman\,Times New Roman" size="3">Catering by Debbi Covington (Champagne included) </font></font></p>\n
LOCATION:
UID:e.1212.4703
SEQUENCE:3
DTSTAMP:20260422T102225Z
URL:http://business.beaufortchamber.org/events/details/international-film-festival-02-16-2013-4703
END:VEVENT

END:VCALENDAR
