BEGIN:VCALENDAR
VERSION:2.0
PRODID:-//ChamberMaster//Event Calendar 2.0//EN
METHOD:PUBLISH
X-PUBLISHED-TTL:P3D
REFRESH-INTERVAL:P3D
CALSCALE:GREGORIAN
BEGIN:VEVENT
DTSTART;VALUE=DATE:20090320
DTEND;VALUE=DATE:20090321
TRANSP:TRANSPARENT
X-MICROSOFT-CDO-ALLDAYEVENT:TRUE
SUMMARY:Intuitively Coordinated: New Work by Lynn Brown & Sharon DeAlexandris
DESCRIPTION:Lynn Brown and Sharon DeAlexandris will share Charles Street Gallery for this show of new work inspired by color and honor.\n\nReception with the artists on Friday\, March 20 from 5:30pm-9pm.
X-ALT-DESC;FMTTYPE=text/html:Lynn Brown and Sharon DeAlexandris will share Charles Street Gallery for this show of new work inspired by color and honor.\n\nReception with the artists on Friday\, March 20 from 5:30pm-9pm.
LOCATION:
UID:e.1212.3005
SEQUENCE:3
DTSTAMP:20260425T111553Z
URL:http://business.beaufortchamber.org/events/details/intuitively-coordinated-new-work-by-lynn-brown-sharon-dealexandris-03-20-2009-3005
END:VEVENT

END:VCALENDAR
