BEGIN:VCALENDAR
VERSION:2.0
PRODID:-//ChamberMaster//Event Calendar 2.0//EN
METHOD:PUBLISH
X-PUBLISHED-TTL:P3D
REFRESH-INTERVAL:P3D
CALSCALE:GREGORIAN
BEGIN:VEVENT
DTSTART:20121027T230000Z
DTEND:20121028T020000Z
X-MICROSOFT-CDO-ALLDAYEVENT:FALSE
SUMMARY:Jazz and Blues at the Arsenal
DESCRIPTION:Featuring Marlena Smalls.  All proceeds benefit  KNOB Kids North of the Broad - Linking children to the arts. . . one note at a time.  It takes a symphony\n\nWine and appetizers
X-ALT-DESC;FMTTYPE=text/html:Featuring Marlena Smalls.&nbsp\; All&nbsp\;proceeds benefit &nbsp\;<strong><span style="color: #ff0000">KNOB</span></strong> Kids North of the Broad - Linking children to the arts. . . one note at a time.&nbsp\; <em>It takes a symphony<br />\nWine and appetizers</em><br />\n
LOCATION:At the Arsenal\, 713 Craven Street\, Beaufort\, SC
UID:e.1212.4592
SEQUENCE:3
DTSTAMP:20260422T152801Z
URL:http://business.beaufortchamber.org/events/details/jazz-and-blues-at-the-arsenal-10-27-2012-4592
END:VEVENT

END:VCALENDAR
