BEGIN:VCALENDAR
VERSION:2.0
PRODID:-//ChamberMaster//Event Calendar 2.0//EN
METHOD:PUBLISH
X-PUBLISHED-TTL:P3D
REFRESH-INTERVAL:P3D
CALSCALE:GREGORIAN
BEGIN:VEVENT
DTSTART:20120302T230000Z
DTEND:20120302T230000Z
X-MICROSOFT-CDO-ALLDAYEVENT:FALSE
SUMMARY:Jewels and Jeans
DESCRIPTION:Bring out the bling to benefit children at Jewels and Jeans on Friday\, March 2\, from 6 to 9 PM at the Country Club of Hilton Head!  Delicious food\, lively music by Lowcountry Boil and super prizes in the live and silent auctions.  Proceeds benefit the BCSD Foundation for Educational Excellence and their Innovative Teacher Grant Program impacting children and teachers throughout the county.  Event tickets are $40 per person and can be purchased through the event website at www.foundationedexcellence.com or at all First Citizens Banks in Beaufort.
X-ALT-DESC;FMTTYPE=text/html:<p>\n	Bring out the bling to benefit children at Jewels and Jeans on Friday\, March 2\, from 6 to 9 PM at the Country Club of Hilton Head!&nbsp\; Delicious food\, lively music by Lowcountry Boil and super prizes in the live and silent auctions.&nbsp\; Proceeds benefit the BCSD Foundation for Educational Excellence&nbsp\;and their Innovative Teacher Grant Program impacting children and teachers throughout the county.&nbsp\; Event tickets are $40 per person and can be purchased through the event website at <a href="http://www.foundationedexcellence.com">www.foundationedexcellence.com</a> or at all First Citizens Banks in Beaufort.&nbsp\;</p>\n
LOCATION:The Country Club of Hilton Head
UID:e.1212.4501
SEQUENCE:3
DTSTAMP:20260423T011252Z
URL:http://business.beaufortchamber.org/events/details/jewels-and-jeans-03-02-2012-4501
END:VEVENT

END:VCALENDAR
