BEGIN:VCALENDAR
VERSION:2.0
PRODID:-//ChamberMaster//Event Calendar 2.0//EN
METHOD:PUBLISH
X-PUBLISHED-TTL:P3D
REFRESH-INTERVAL:P3D
CALSCALE:GREGORIAN
BEGIN:VEVENT
DTSTART:20140123T150000Z
DTEND:20140123T210000Z
X-MICROSOFT-CDO-ALLDAYEVENT:FALSE
SUMMARY:Joint Rotary Blood Drive
DESCRIPTION:Blood drive sponsored by the Sea Island\, Beaufort and Lowcountry Rotary Clubs!
X-ALT-DESC;FMTTYPE=text/html:Blood drive sponsored by the Sea Island\, Beaufort and Lowcountry Rotary Clubs!
LOCATION:The Blood Alliance Donor Center\, 1001 Boundary Street\, Suite A\, Beaufort.
UID:e.1212.5159
SEQUENCE:3
DTSTAMP:20260421T132215Z
URL:http://business.beaufortchamber.org/events/details/joint-rotary-blood-drive-01-23-2014-5159
END:VEVENT

END:VCALENDAR
