BEGIN:VCALENDAR
VERSION:2.0
PRODID:-//ChamberMaster//Event Calendar 2.0//EN
METHOD:PUBLISH
X-PUBLISHED-TTL:P3D
REFRESH-INTERVAL:P3D
CALSCALE:GREGORIAN
BEGIN:VEVENT
DTSTART:20120414T220000Z
DTEND:20120415T023000Z
X-MICROSOFT-CDO-ALLDAYEVENT:FALSE
SUMMARY:JSLB BBQ
DESCRIPTION:This event is always a good time! Come enjoy delicious BBQ catered by Q on Bay\, live music by The Broke Locals and an open bar! Mingle with friends while bidding on silent auction items. All funds benefit local organizations serving women and children (through a grant process).
X-ALT-DESC;FMTTYPE=text/html:<p>\n	This event is always a good time! Come enjoy delicious BBQ catered by Q on Bay\, live music by The Broke Locals and an open bar! Mingle with friends while bidding on silent auction items. All funds benefit local organizations serving women and children (through a grant process).</p>\n
LOCATION:The Arsenal\, downtown Beaufort
UID:e.1212.4520
SEQUENCE:3
DTSTAMP:20260422T234720Z
URL:http://business.beaufortchamber.org/events/details/jslb-bbq-04-14-2012-4520
END:VEVENT

END:VCALENDAR
