BEGIN:VCALENDAR
VERSION:2.0
PRODID:-//ChamberMaster//Event Calendar 2.0//EN
METHOD:PUBLISH
X-PUBLISHED-TTL:P3D
REFRESH-INTERVAL:P3D
CALSCALE:GREGORIAN
BEGIN:VEVENT
DTSTART:20130131T230000Z
DTEND:20130201T020000Z
X-MICROSOFT-CDO-ALLDAYEVENT:FALSE
SUMMARY:Jubilee of Freedom - Commenorating the 150th Anniversary of Emancipation Proclamation
DESCRIPTION:The Beaufort County Historical Society announces the Jubilee of Freedom presented by Coastal States Bank & Mitchelville Preservation Project .  Commemorating the 150th Anniversary of the reading of the Emancipation Proclamation.  This historical document was originally read in Beaufort on January 1\, 1863\, the 13th Amendment to the Constitution was presented to Congress on January 31\, 1863.\n\n\n\nCast members for the event include Dr. Stephen Wise\, Dr. Lawrence Rowland\, Anita Singleton-Prather (Aunt Pearlie Sue of Gullah Kinfolk)\, Evelene Stevenson (Spirit of Old Beaufort)\, Mary Legree\, Dave Smoot\, Erika Pyle\, Peter Ovens\, Darryl Murphy and ___ Humpreys.
X-ALT-DESC;FMTTYPE=text/html:The Beaufort County Historical Society announces the Jubilee of Freedom presented by Coastal States Bank &amp\; Mitchelville Preservation Project .&nbsp\; Commemorating the 150th Anniversary of the reading of the Emancipation Proclamation.&nbsp\; This historical document was originally read in Beaufort on January 1\, 1863\, the 13th Amendment to the Constitution was presented to Congress on January 31\, 1863.<br />\n<br />\nCast members for the event include Dr. Stephen Wise\, Dr. Lawrence Rowland\, Anita Singleton-Prather (Aunt Pearlie Sue of Gullah Kinfolk)\, Evelene Stevenson (Spirit of Old Beaufort)\, Mary Legree\, Dave Smoot\, Erika Pyle\, Peter Ovens\, Darryl Murphy and ___ Humpreys.
LOCATION:University of South Carolina Beaufort Performing Arts Center\, 800 Carteret Street\, Beaufort\, SC
UID:e.1212.4723
SEQUENCE:3
DTSTAMP:20260422T102056Z
URL:http://business.beaufortchamber.org/events/details/jubilee-of-freedom-commenorating-the-150th-anniversary-of-emancipation-proclamation-01-31-2013-4723
END:VEVENT

END:VCALENDAR
