BEGIN:VCALENDAR
VERSION:2.0
PRODID:-//ChamberMaster//Event Calendar 2.0//EN
METHOD:PUBLISH
X-PUBLISHED-TTL:P3D
REFRESH-INTERVAL:P3D
CALSCALE:GREGORIAN
BEGIN:VEVENT
DTSTART:20130704T210000Z
DTEND:20130705T020000Z
X-MICROSOFT-CDO-ALLDAYEVENT:FALSE
SUMMARY:July 4th celebrations - Town of Port Royal
DESCRIPTION:Independence Day is celebrated on July 4th in the Town of Port Royal with a dual fireworks display presented by Parris Island and the Town of Port Royal.  Festivities will be held on Sands Beach and will commence at 5:00pm. Bring your beach chairs and bug spray and celebrate our birthday.\n\n\n\nPresented by the Historic Port Royal Foundation and the Town ...
X-ALT-DESC;FMTTYPE=text/html:Independence Day is celebrated on July 4th in the Town of Port Royal with a dual fireworks display presented by Parris Island and the Town of Port Royal. <span id="ctl00_CPHMainContentWrapper_SiteGrid_ctl03_Label1"> Festivities will be held on Sands Beach and will commence at 5:00pm. Bring your beach chairs and bug spray and celebrate our birthday.</span><br />\n<br />\nPresented by the Historic Port Royal Foundation and the Town ...<br />\n
LOCATION:
UID:e.1212.4714
SEQUENCE:3
DTSTAMP:20260421T232908Z
URL:http://business.beaufortchamber.org/events/details/july-4th-celebrations-town-of-port-royal-07-04-2013-4714
END:VEVENT

END:VCALENDAR
