BEGIN:VCALENDAR
VERSION:2.0
PRODID:-//ChamberMaster//Event Calendar 2.0//EN
METHOD:PUBLISH
X-PUBLISHED-TTL:P3D
REFRESH-INTERVAL:P3D
CALSCALE:GREGORIAN
BEGIN:VEVENT
DTSTART:20120414T223000Z
DTEND:20120415T023000Z
X-MICROSOFT-CDO-ALLDAYEVENT:FALSE
SUMMARY:Junior Service League of Beaufort BBQ
DESCRIPTION:Join the Junior Service League of Beaufort at their annual BBQ by the Marsh has raised more than $100\,000 for local charities.\n\n	 \n\n	Tthe finger-licking feast will take place from 6:30 to 10:30 p.m. Saturday\, April 14 at The Arsenal on Craven Street in downtown Beaufort.\n\n	\n\n	Proceeds from the event will be distributed as grants to nonprofit agencies and organizations serving women\, children and families in the area.
X-ALT-DESC;FMTTYPE=text/html:<p class="MsoNormal" style="margin: 0in 0in 0pt">\n	<font size="3"><font color="#000000"><font face="Times New Roman"><span style="mso-tab-count: 1">Join the Junior Service League of Beaufort at their annual&nbsp\;B</span>BQ by the Marsh has raised more than $100\,000 for local charities.</font></font></font></p>\n<p class="MsoNormal" style="margin: 0in 0in 0pt">\n	<o:p><font color="#000000" face="Times New Roman" size="3">&nbsp\;</font></o:p></p>\n<p class="MsoNormal" style="margin: 0in 0in 0pt">\n	<font size="3"><font color="#000000"><font face="Times New Roman">Tthe finger-licking feast will take place from 6:30 to 10:30 p.m. Saturday\, April 14 at The Arsenal on&nbsp\;Craven Street in downtown Beaufort.<br />\n	<br />\n	Proceeds from the event will be distributed as grants to nonprofit agencies and organizations serving women\, children and families in the area. </font></font></font></p>\n
LOCATION:The Arsenal
UID:e.1212.4518
SEQUENCE:3
DTSTAMP:20260422T235433Z
URL:http://business.beaufortchamber.org/events/details/junior-service-league-of-beaufort-bbq-04-14-2012-4518
END:VEVENT

END:VCALENDAR
