BEGIN:VCALENDAR
VERSION:2.0
PRODID:-//ChamberMaster//Event Calendar 2.0//EN
METHOD:PUBLISH
X-PUBLISHED-TTL:P3D
REFRESH-INTERVAL:P3D
CALSCALE:GREGORIAN
BEGIN:VEVENT
DTSTART:20131023T140000Z
DTEND:20131023T220000Z
X-MICROSOFT-CDO-ALLDAYEVENT:FALSE
SUMMARY:Junior Service League of Beaufort BLOOD DRIVE
DESCRIPTION:Junior Service League of Beaufort BLOOD DRIVE!
X-ALT-DESC;FMTTYPE=text/html:<div>\n	<span style="font-size: 14px\;"><strong><span style="color: rgb(128\, 0\, 128)\;"><span style="font-family: comic sans ms\;">Junior Service League of Beaufort&nbsp\;</span></span><span style="color: rgb(255\, 0\, 0)\;"><span style="font-family: comic sans ms\;">BLOOD DRIVE</span></span><span style="color: rgb(128\, 0\, 128)\;"><span style="font-family: comic sans ms\;">! </span></span></strong></span></div>\n
LOCATION:The Blood Alliance Donor Center\, 1001 Boundary Street\, Beaufort
UID:e.1212.5112
SEQUENCE:3
DTSTAMP:20260421T182600Z
URL:http://business.beaufortchamber.org/events/details/junior-service-league-of-beaufort-blood-drive-10-23-2013-5112
END:VEVENT

END:VCALENDAR
