BEGIN:VCALENDAR
VERSION:2.0
PRODID:-//ChamberMaster//Event Calendar 2.0//EN
METHOD:PUBLISH
X-PUBLISHED-TTL:P3D
REFRESH-INTERVAL:P3D
CALSCALE:GREGORIAN
BEGIN:VEVENT
DTSTART;VALUE=DATE:20120331
DTEND;VALUE=DATE:20120401
TRANSP:TRANSPARENT
X-MICROSOFT-CDO-ALLDAYEVENT:TRUE
SUMMARY:KidFest
DESCRIPTION:A community-sponsored event with free\, fun games for kids and safety tips for parents.
X-ALT-DESC;FMTTYPE=text/html:A community-sponsored event with free\, fun games for kids and safety tips for parents.
LOCATION:Cross Creek Shopping Center (in front of Belk and Best Buy in Beaufort)
UID:e.1212.4505
SEQUENCE:3
DTSTAMP:20260423T023432Z
URL:http://business.beaufortchamber.org/events/details/kidfest-03-31-2012-4505
END:VEVENT

END:VCALENDAR
