BEGIN:VCALENDAR
VERSION:2.0
PRODID:-//ChamberMaster//Event Calendar 2.0//EN
METHOD:PUBLISH
X-PUBLISHED-TTL:P3D
REFRESH-INTERVAL:P3D
CALSCALE:GREGORIAN
BEGIN:VEVENT
DTSTART:20120811T160000Z
DTEND:20120811T190000Z
X-MICROSOFT-CDO-ALLDAYEVENT:FALSE
SUMMARY:Kidfest
DESCRIPTION:
X-ALT-DESC;FMTTYPE=text/html:
LOCATION:Cross Creek Shopping Center\, Robert Smalls Parkway\, Beaufort\, SC
UID:e.1212.4563
SEQUENCE:3
DTSTAMP:20260422T175422Z
URL:http://business.beaufortchamber.org/events/details/kidfest-08-11-2012-4563
END:VEVENT

END:VCALENDAR
