BEGIN:VCALENDAR
VERSION:2.0
PRODID:-//ChamberMaster//Event Calendar 2.0//EN
METHOD:PUBLISH
X-PUBLISHED-TTL:P3D
REFRESH-INTERVAL:P3D
CALSCALE:GREGORIAN
BEGIN:VEVENT
DTSTART;VALUE=DATE:20111105
DTEND;VALUE=DATE:20111106
TRANSP:TRANSPARENT
X-MICROSOFT-CDO-ALLDAYEVENT:TRUE
SUMMARY:LADIES ONLY Concealed Weapons Permit (CWP) class
DESCRIPTION:The SC Concealed Weapons Permit class will provide our students with everything they need to properly apply for a SC Concealed Weapon Permit. This class consists of an eight (8) hour class and range Instruction and Qualification. The student will need to provide his or her own firearm\, proper holster and 100 rounds of range quality ammunition. This course will cost $85 with discounts for Military and Special Groups.  Fingerprinting available at class.
X-ALT-DESC;FMTTYPE=text/html:The SC Concealed Weapons Permit class will provide our students with everything they need to properly apply for a SC Concealed Weapon Permit. This class consists of an eight (8) hour class and range Instruction and Qualification. The student will need to provide his or her own firearm\, proper holster and 100 rounds of range quality ammunition. This course will cost $85 with discounts for Military and Special Groups.&nbsp\; Fingerprinting available at class.
LOCATION:Fire Station near the entrance to Dataw Island
UID:e.1212.4332
SEQUENCE:3
DTSTAMP:20260423T092207Z
URL:http://business.beaufortchamber.org/events/details/ladies-only-concealed-weapons-permit-cwp-class-11-05-2011-4332
END:VEVENT

END:VCALENDAR
