BEGIN:VCALENDAR
VERSION:2.0
PRODID:-//ChamberMaster//Event Calendar 2.0//EN
METHOD:PUBLISH
X-PUBLISHED-TTL:P3D
REFRESH-INTERVAL:P3D
CALSCALE:GREGORIAN
BEGIN:VEVENT
DTSTART;VALUE=DATE:20091030
DTEND;VALUE=DATE:20091031
TRANSP:TRANSPARENT
X-MICROSOFT-CDO-ALLDAYEVENT:TRUE
SUMMARY:Lady's Island Country Club Costume Party
DESCRIPTION:Dress in your favorite costume and come out to our Halloween Party !\nBurgers\, wings bar\, karaoke and costume contest\nCost Adults: $10   \nCost Child: $5\nFree for 5 and under
X-ALT-DESC;FMTTYPE=text/html:Dress in your favorite costume and come out to our Halloween Party !\nBurgers\, wings bar\, karaoke and costume contest\nCost Adults: $10   \nCost Child: $5\nFree for 5 and under
LOCATION:
UID:e.1212.3656
SEQUENCE:3
DTSTAMP:20260424T222041Z
URL:http://business.beaufortchamber.org/events/details/lady-s-island-country-club-costume-party-10-30-2009-3656
END:VEVENT

END:VCALENDAR
