BEGIN:VCALENDAR
VERSION:2.0
PRODID:-//ChamberMaster//Event Calendar 2.0//EN
METHOD:PUBLISH
X-PUBLISHED-TTL:P3D
REFRESH-INTERVAL:P3D
CALSCALE:GREGORIAN
BEGIN:VEVENT
DTSTART;VALUE=DATE:20090226
DTEND;VALUE=DATE:20090227
TRANSP:TRANSPARENT
X-MICROSOFT-CDO-ALLDAYEVENT:TRUE
SUMMARY:Lady's Night Out
DESCRIPTION:Please join us for our Lafont Trunk Show.  Come browse through our new Lafont frames and local boutique items.\n\nTalk with Dr. Bailey about Latisse\, a new product approved to lengthen eyelashes!  Enjoy heavy h'ordourves\, desserts\, and French wine.\n\nPlease R.S.V.P. to (843) 521-2020 on or before February 24th.
X-ALT-DESC;FMTTYPE=text/html:Please join us for our Lafont Trunk Show.  Come browse through our new Lafont frames and local boutique items.\n\nTalk with Dr. Bailey about Latisse\, a new product approved to lengthen eyelashes!  Enjoy heavy h'ordourves\, desserts\, and French wine.\n\nPlease R.S.V.P. to (843) 521-2020 on or before February 24th.\n\n
LOCATION:
UID:e.1212.3026
SEQUENCE:3
DTSTAMP:20260425T124354Z
URL:http://business.beaufortchamber.org/events/details/lady-s-night-out-02-26-2009-3026
END:VEVENT

END:VCALENDAR
