BEGIN:VCALENDAR
VERSION:2.0
PRODID:-//ChamberMaster//Event Calendar 2.0//EN
METHOD:PUBLISH
X-PUBLISHED-TTL:P3D
REFRESH-INTERVAL:P3D
CALSCALE:GREGORIAN
BEGIN:VEVENT
DTSTART:20140404T170000Z
DTEND:20140404T220000Z
X-MICROSOFT-CDO-ALLDAYEVENT:FALSE
SUMMARY:Lafayette Golf Tournament
DESCRIPTION:The Historic Beaufort Foundation will be hosting the Lafayette Gold Tournament. Proceeds will be used to benefit the Historic Beaufort Foundation's Verdier House. The Tournament will be held at The Legends at Parris Island Golf Course.\n\n\n\nRegistration starts at 11:30\; Shotgun start at 1:00p.m.\, Captain's Choice.\n\nCost is $320 per team and  includes Range balls and a box lunch.
X-ALT-DESC;FMTTYPE=text/html:The Historic Beaufort Foundation will be hosting the Lafayette Gold Tournament. Proceeds will be used to benefit the Historic Beaufort Foundation&#39\;s Verdier House. The Tournament will be held at The Legends at Parris Island Golf Course.<br />\n<br />\nRegistration starts at 11:30\; Shotgun start at 1:00p.m.\, Captain&#39\;s Choice.<br />\nCost is $320 per team and &nbsp\;includes Range balls and a box lunch.
LOCATION:The Legends at Parris Island Golf Course
UID:e.1212.5278
SEQUENCE:3
DTSTAMP:20260419T124636Z
URL:http://business.beaufortchamber.org/events/details/lafayette-golf-tournament-04-04-2014-5278
END:VEVENT

END:VCALENDAR
