BEGIN:VCALENDAR
VERSION:2.0
PRODID:-//ChamberMaster//Event Calendar 2.0//EN
METHOD:PUBLISH
X-PUBLISHED-TTL:P3D
REFRESH-INTERVAL:P3D
CALSCALE:GREGORIAN
BEGIN:VEVENT
DTSTART:20120831T210000Z
DTEND:20120901T210000Z
X-MICROSOFT-CDO-ALLDAYEVENT:FALSE
SUMMARY:Lands End Woodland River Festival
DESCRIPTION:The festival is a multi-cultural community celebration of the Gullah ancestry and history of the people of St. Helena Island through music\, storytelling\, historical presentations. crafts. art and food.
X-ALT-DESC;FMTTYPE=text/html:The festival is a multi-cultural community celebration of the Gullah ancestry and history of the people of St. Helena Island through music\, storytelling\, historical presentations. crafts. art and food.
LOCATION:Free Parking. Located on Lands End Road\, six miles south of Penn Center on Martin Luther King Jr. Drive on St. Helena Island
UID:e.1212.4580
SEQUENCE:3
DTSTAMP:20260422T163950Z
URL:http://business.beaufortchamber.org/events/details/lands-end-woodland-river-festival-08-31-2012-4580
END:VEVENT

END:VCALENDAR
