BEGIN:VCALENDAR
VERSION:2.0
PRODID:-//ChamberMaster//Event Calendar 2.0//EN
METHOD:PUBLISH
X-PUBLISHED-TTL:P3D
REFRESH-INTERVAL:P3D
CALSCALE:GREGORIAN
BEGIN:VEVENT
DTSTART:20120430T220000Z
DTEND:20120430T230000Z
X-MICROSOFT-CDO-ALLDAYEVENT:FALSE
SUMMARY:LASIK vision correction seminar
DESCRIPTION:Monday April 30th  from 6:00 until 7:00 pm Lasik vision correction seminar. 10 Hospital Center Commons Suite 100 Hilton Head Island\, S.C. 29926. Please call today to reserve your seat 843-681-8655. All seminar attendees will recieve  $700.00 off the total of the procedure cost.
X-ALT-DESC;FMTTYPE=text/html:Monday April 30th&nbsp\; from 6:00 until 7:00 pm Lasik vision correction seminar. 10 Hospital Center Commons Suite 100 Hilton Head Island\, S.C. 29926. Please call today to reserve your seat 843-681-8655. All seminar attendees will recieve&nbsp\; $700.00 off the total of the procedure cost.
LOCATION:10 Hospital Center Commons Suite 100 Hilton Head Island \, S.C. 29926
UID:e.1212.4524
SEQUENCE:3
DTSTAMP:20260422T234720Z
URL:http://business.beaufortchamber.org/events/details/lasik-vision-correction-seminar-04-30-2012-4524
END:VEVENT

END:VCALENDAR
