BEGIN:VCALENDAR
VERSION:2.0
PRODID:-//ChamberMaster//Event Calendar 2.0//EN
METHOD:PUBLISH
X-PUBLISHED-TTL:P3D
REFRESH-INTERVAL:P3D
CALSCALE:GREGORIAN
BEGIN:VEVENT
DTSTART:20120904T220000Z
DTEND:20120904T230000Z
X-MICROSOFT-CDO-ALLDAYEVENT:FALSE
SUMMARY:Lasik vision correction seminar
DESCRIPTION:Lasik vision seminar. Presented by Dr. Michael Campbell with Hilton Head Laser eye center. Call Keri for reservations 843-681-8655. Refreshments will be served. Attendees will recieve $700.00 off Lasik correction.
X-ALT-DESC;FMTTYPE=text/html:Lasik vision seminar. Presented by Dr. Michael Campbell with Hilton Head Laser eye center. Call Keri for reservations 843-681-8655. Refreshments will be served. Attendees will recieve $700.00 off Lasik correction.
LOCATION:Optical Solutions of Bluffton \,9 Promenade st. suite 1001\, Bluffton\, SC 29910
UID:e.1212.4593
SEQUENCE:3
DTSTAMP:20260422T174533Z
URL:http://business.beaufortchamber.org/events/details/lasik-vision-correction-seminar-09-04-2012-4593
END:VEVENT

END:VCALENDAR
