BEGIN:VCALENDAR
VERSION:2.0
PRODID:-//ChamberMaster//Event Calendar 2.0//EN
METHOD:PUBLISH
X-PUBLISHED-TTL:P3D
REFRESH-INTERVAL:P3D
CALSCALE:GREGORIAN
BEGIN:VEVENT
DTSTART:20120905T220000Z
DTEND:20120905T230000Z
X-MICROSOFT-CDO-ALLDAYEVENT:FALSE
SUMMARY:Lasik vision correction seminar
DESCRIPTION:Lasik vision correction seminar. Presented by Dr. Michael Campbell with the Hilton Head Laser eye center. Call Keri today for reservations 843-681-8655. Refreshments will be served. Attendees will recieve $700.00 off Lasik vision correction.
X-ALT-DESC;FMTTYPE=text/html:Lasik vision correction seminar. Presented by Dr. Michael Campbell with the Hilton Head Laser eye center. Call Keri today for reservations 843-681-8655. Refreshments will be served. Attendees will recieve $700.00 off Lasik vision correction.
LOCATION:Optical Solutions W32 Plaza at Shelter cove ( next to TJ Maxx) Hilton Head Island \, SC 29928
UID:e.1212.4594
SEQUENCE:3
DTSTAMP:20260422T163003Z
URL:http://business.beaufortchamber.org/events/details/lasik-vision-correction-seminar-09-05-2012-4594
END:VEVENT

END:VCALENDAR
